BEGIN:VCALENDAR
VERSION:2.0
PRODID:-//Wildlife Women - ECPv6.15.20//NONSGML v1.0//EN
CALSCALE:GREGORIAN
METHOD:PUBLISH
X-WR-CALNAME:Wildlife Women
X-ORIGINAL-URL:https://wildlifewomen.com
X-WR-CALDESC:Events for Wildlife Women
REFRESH-INTERVAL;VALUE=DURATION:PT1H
X-Robots-Tag:noindex
X-PUBLISHED-TTL:PT1H
BEGIN:VTIMEZONE
TZID:America/New_York
BEGIN:DAYLIGHT
TZOFFSETFROM:-0500
TZOFFSETTO:-0400
TZNAME:EDT
DTSTART:20240310T070000
END:DAYLIGHT
BEGIN:STANDARD
TZOFFSETFROM:-0400
TZOFFSETTO:-0500
TZNAME:EST
DTSTART:20241103T060000
END:STANDARD
BEGIN:DAYLIGHT
TZOFFSETFROM:-0500
TZOFFSETTO:-0400
TZNAME:EDT
DTSTART:20250309T070000
END:DAYLIGHT
BEGIN:STANDARD
TZOFFSETFROM:-0400
TZOFFSETTO:-0500
TZNAME:EST
DTSTART:20251102T060000
END:STANDARD
BEGIN:DAYLIGHT
TZOFFSETFROM:-0500
TZOFFSETTO:-0400
TZNAME:EDT
DTSTART:20260308T070000
END:DAYLIGHT
BEGIN:STANDARD
TZOFFSETFROM:-0400
TZOFFSETTO:-0500
TZNAME:EST
DTSTART:20261101T060000
END:STANDARD
END:VTIMEZONE
BEGIN:VEVENT
DTSTART;TZID=America/New_York:20251206T150000
DTEND;TZID=America/New_York:20251207T120000
DTSTAMP:20260425T122330
CREATED:20251011T003803Z
LAST-MODIFIED:20251011T003803Z
UID:3554-1765033200-1765108800@wildlifewomen.com
SUMMARY:Wildlife Women - Giggin’ on the Gasconade
DESCRIPTION:Wildlife Women – Giggin’ on the Gasconade\nWildlife Women’s Tonya Parrish\, State Chapter leader of Missouri will be hosting…\nGiggin’ on the Gasconade.  \nPlease contact Tonya Parrish on Facebook or call/text 417-318-8534 for more information on this event.This is a LADIE’S only trip. There will be men guides that will be instructing us and driving the boats.Need to know information- Date: December 6th 2025 – December 7th 2025Location: Near Rolla\, MO. Exact location will be provided in a group message target species- suckers (fish) Cost: $125-$150 with a $50 non-refundable deposit due at booking. This deposit will be taken off of the final price of the event. Deposit payment can be made through Venmo or CashApp. Lodging is included in the price. The remaining amount of the trip will be due by November 22\, 2025. I will have the final price at that time .. total cost will be determined with how many ladies attend. Items not included in the price: Missouri Fishing License\, Tips and dining.
URL:https://wildlifewomen.com/event/wildlife-women-giggin-on-the-gasconade/
LOCATION:Rolla\, MS\, MO\, United States
CATEGORIES:educational,Fishing,hiking,Hunter Education,hunting,Meet and Greet,nature,navigational,safety
ATTACH;FMTTYPE=image/jpeg:https://wildlifewomen.com/wp-content/uploads/2025/10/WW-Cover-photo-3.jpg
END:VEVENT
END:VCALENDAR