BEGIN:VCALENDAR
VERSION:2.0
PRODID:-//Wildlife Women - ECPv6.15.20//NONSGML v1.0//EN
CALSCALE:GREGORIAN
METHOD:PUBLISH
X-WR-CALNAME:Wildlife Women
X-ORIGINAL-URL:https://wildlifewomen.com
X-WR-CALDESC:Events for Wildlife Women
REFRESH-INTERVAL;VALUE=DURATION:PT1H
X-Robots-Tag:noindex
X-PUBLISHED-TTL:PT1H
BEGIN:VTIMEZONE
TZID:America/New_York
BEGIN:DAYLIGHT
TZOFFSETFROM:-0500
TZOFFSETTO:-0400
TZNAME:EDT
DTSTART:20200308T070000
END:DAYLIGHT
BEGIN:STANDARD
TZOFFSETFROM:-0400
TZOFFSETTO:-0500
TZNAME:EST
DTSTART:20201101T060000
END:STANDARD
BEGIN:DAYLIGHT
TZOFFSETFROM:-0500
TZOFFSETTO:-0400
TZNAME:EDT
DTSTART:20210314T070000
END:DAYLIGHT
BEGIN:STANDARD
TZOFFSETFROM:-0400
TZOFFSETTO:-0500
TZNAME:EST
DTSTART:20211107T060000
END:STANDARD
BEGIN:DAYLIGHT
TZOFFSETFROM:-0500
TZOFFSETTO:-0400
TZNAME:EDT
DTSTART:20220313T070000
END:DAYLIGHT
BEGIN:STANDARD
TZOFFSETFROM:-0400
TZOFFSETTO:-0500
TZNAME:EST
DTSTART:20221106T060000
END:STANDARD
BEGIN:DAYLIGHT
TZOFFSETFROM:-0500
TZOFFSETTO:-0400
TZNAME:EDT
DTSTART:20230312T070000
END:DAYLIGHT
BEGIN:STANDARD
TZOFFSETFROM:-0400
TZOFFSETTO:-0500
TZNAME:EST
DTSTART:20231105T060000
END:STANDARD
BEGIN:DAYLIGHT
TZOFFSETFROM:-0500
TZOFFSETTO:-0400
TZNAME:EDT
DTSTART:20240310T070000
END:DAYLIGHT
BEGIN:STANDARD
TZOFFSETFROM:-0400
TZOFFSETTO:-0500
TZNAME:EST
DTSTART:20241103T060000
END:STANDARD
BEGIN:DAYLIGHT
TZOFFSETFROM:-0500
TZOFFSETTO:-0400
TZNAME:EDT
DTSTART:20250309T070000
END:DAYLIGHT
BEGIN:STANDARD
TZOFFSETFROM:-0400
TZOFFSETTO:-0500
TZNAME:EST
DTSTART:20251102T060000
END:STANDARD
BEGIN:DAYLIGHT
TZOFFSETFROM:-0500
TZOFFSETTO:-0400
TZNAME:EDT
DTSTART:20260308T070000
END:DAYLIGHT
BEGIN:STANDARD
TZOFFSETFROM:-0400
TZOFFSETTO:-0500
TZNAME:EST
DTSTART:20261101T060000
END:STANDARD
BEGIN:DAYLIGHT
TZOFFSETFROM:-0500
TZOFFSETTO:-0400
TZNAME:EDT
DTSTART:20270314T070000
END:DAYLIGHT
BEGIN:STANDARD
TZOFFSETFROM:-0400
TZOFFSETTO:-0500
TZNAME:EST
DTSTART:20271107T060000
END:STANDARD
END:VTIMEZONE
BEGIN:VEVENT
DTSTART;TZID=America/New_York:20260321T093000
DTEND;TZID=America/New_York:20260321T133000
DTSTAMP:20260425T073608
CREATED:20260209T040924Z
LAST-MODIFIED:20260216T001619Z
UID:3609-1774085400-1774099800@wildlifewomen.com
SUMMARY:Wildlife Women Arkansas Conceal Carry
DESCRIPTION:Co Ed event\nJoin us at Black Iron located at 622 N Holman St\, Brookland\, Ar.\, for a fun day of pistol shooting and education.\nYour Instructor\, Tony Cliff\, will educate you in a concealed carry class and then we will move to the range to shoot 50 rounds of ammunition.\nYou can bring your own pistol and ammo\, or they can be provided for you.\nWW Arkansas State Director Tracy Shaw and Pistol Basic Instructor Brianna McMinn will be available to guide you and answer all your questions.\n$100 nonrefundable deposit is required to secure your spot.\nThis event is for men and women.\nGrab and go breakfast and snacks will be provided.\nAfter class\, we will help you with all the paperwork you will need to get certified to conceal carry.\n\nYou don’t want to miss this event. Come and join us for a day full of fun and education!! \nSee less
URL:https://wildlifewomen.com/event/wildlife-women-arkansas-conceal-carry/
LOCATION:Black Iron\, 622 N Holman Street\, Brookland\, AR\, United States
CATEGORIES:educational,safety,Shooting
ATTACH;FMTTYPE=image/jpeg:https://wildlifewomen.com/wp-content/uploads/2026/02/img_1817-2.jpg
ORGANIZER;CN="Tracy Shaw":MAILTO:tracywildlifewomenar1@gmail.com
END:VEVENT
BEGIN:VEVENT
DTSTART;TZID=America/New_York:20251123T113000
DTEND;TZID=America/New_York:20251123T150000
DTSTAMP:20260425T073608
CREATED:20251117T162914Z
LAST-MODIFIED:20251117T162914Z
UID:3566-1763897400-1763910000@wildlifewomen.com
SUMMARY:Wildlife Women’s Pistol Packin' Mama’s
DESCRIPTION:Ladies only Beginners hand gun class\n$60 per person\nPayment Can be transferred but is non refundable\nIn person class will be held regardless of weather. If the weather is bad the shooting portion will be rescheduled.\nContact Bridgette McIntosh to pay or for questions 606-369-7849\n12 person max \nWe will meet at my house at 12:30 to carpool and travel down to Raegan lane. We need 4 wheel drive to get to the range. Please comment if you have one! \nClass will begin at 1 pm and the instructor will be Tom and Hayley Shank! You will learn hand gun basics\, proper stance and safety!\nWe will then proceed to practice shooting! \nCoffee\, drinks and snacks will be provided! \nItems to bring:\nHANDGUN\n3-5 BOXES AMMO\nEAR and EYE safety\nDRESS WARM \nIf you don’t have a handgun\, please let us know and we can provide one for an additional cost of the ammo. \nWeather permitting! Please watch event post for updates!
URL:https://wildlifewomen.com/event/wildlife-womens-pistol-packin-mamas/
LOCATION:2089 Poosey Ridge Road Richmond\, KY 40475\, 2089 Poosey Ridge Rd\, Richmond\, KY\, 40475\, United States
CATEGORIES:educational,gun education,Relief,safety,Shooting
ATTACH;FMTTYPE=image/jpeg:https://wildlifewomen.com/wp-content/uploads/2025/11/Bridgettes-gun-event.jpeg
ORGANIZER;CN="Bridgette Holbrook":MAILTO:wildlifewomenky1@gmail.com
END:VEVENT
BEGIN:VEVENT
DTSTART;TZID=America/New_York:20251003T120000
DTEND;TZID=America/New_York:20251006T120000
DTSTAMP:20260425T073608
CREATED:20250904T021519Z
LAST-MODIFIED:20250918T014342Z
UID:3536-1759492800-1759752000@wildlifewomen.com
SUMMARY:Wildlife Women Louisiana Gator Hunt
DESCRIPTION:  \nEVENT IS FULL!  This is a coed event. Arrive anytime on Friday. Exact location will be provided in a group message set up with Arkansas State Director Tracy Shaw. You will hunt on Saturday and leave on Sunday. Lodging is provided in the price. Louisiana Gator License is required. Cleaning\, taxidermy and tips are not included. For any questions contact Arkansas State Director Tracy Shaw at 870-275-1532.   $500 deposit through Venmo or PayPal.
URL:https://wildlifewomen.com/event/wildlife-women-louisiana-gator-hunt-2/
LOCATION:Bachelor\, LA\, Bachelor\, LA\, United States
CATEGORIES:educational,gator hunting,gun education,Hunter Education,hunting,nature,safety,Shooting
ATTACH;FMTTYPE=image/jpeg:https://wildlifewomen.com/wp-content/uploads/2025/09/Tracy-Gator-event-full.jpg
ORGANIZER;CN="Tracy Shaw":MAILTO:tracywildlifewomenar1@gmail.com
END:VEVENT
BEGIN:VEVENT
DTSTART;TZID=America/New_York:20220218T140000
DTEND;TZID=America/New_York:20220220T100000
DTSTAMP:20260425T073608
CREATED:20220117T182856Z
LAST-MODIFIED:20220118T011122Z
UID:3309-1645192800-1645351200@wildlifewomen.com
SUMMARY:Wildlife Women Hogs Down South
DESCRIPTION:EVENT FULL \n  \nAll ladies hog hunted with Wildlife Women Alabama Chapter Leader Kim Bryant.\n3 day event hunting hogs in shooting houses. Must be 18+ Alabama hunting lc required.\nBring your own rifle\, ammo\, drinks\, snacks\nLodging\, meals provided.\nOnly 5 spots available\nLadies Hunt Only\nArrive Friday 2:00- hunt Friday afternoon\nSaturday morning-Afternoon.\nDeparture Sunday 10:00 am.\nCost $75. Via PayPal\nhttps://www.paypal.me/KBryant1
URL:https://wildlifewomen.com/event/wildlife-women-hogs-down-south/
LOCATION:Crook Road Minter\, AL  36761\, Crook Road\, Minter\, AL\, 36761\, United States
CATEGORIES:hunting,nature,safety,Shooting
ATTACH;FMTTYPE=image/jpeg:https://wildlifewomen.com/wp-content/uploads/2022/01/kims-hog.jpeg
END:VEVENT
BEGIN:VEVENT
DTSTART;TZID=America/New_York:20211106T153000
DTEND;TZID=America/New_York:20211106T170000
DTSTAMP:20260425T073608
CREATED:20211005T144003Z
LAST-MODIFIED:20211005T144003Z
UID:3283-1636212600-1636218000@wildlifewomen.com
SUMMARY:Wildlife Women take on Buck and Balls\,Breech Plugs and Black Powder
DESCRIPTION:0930\, Introduction to Muzzleloading. ( Gun types\, powder types\, basics of how to load) \n1000: Meet and Greet \n1015: Safety meeting\, Pledge\, Prayer \n1020: range open ( 25 to 200 yards) \n1230: Lunch ( included in admissions) \n1330: Smoothbore Skeet\n(Blackpowder flint or percussion\, cartridge guns at this must have an outside hammer.) \n1530: Closing and awards. \nBlackpowder Maniac on YouTube\, has been contacted and will be filming a video for his channel.\nLocal press invited. \nCost $25 including lunch. ( Cost increase over regular shoot for extra food and targets. ) \nAny Muzzleloader welcome\, inlines using jacketed bullets will shoot same distance\, non-steel target for safety. \nCoed event \n18 and older\, unless accompanied by adult
URL:https://wildlifewomen.com/event/wildlife-women-take-on-buck-and-ballsbreech-plugs-and-black-powder/
LOCATION:Breathitt County Fish and Game Club\, 205 Smokie Drive\, Jackson\, KY\, 41339\, United States
CATEGORIES:educational,gun education,hunting,safety,Shooting
ATTACH;FMTTYPE=image/jpeg:https://wildlifewomen.com/wp-content/uploads/2021/10/FFC6E88A-8BE6-4C0F-A222-ABE28D9C972C.jpeg
ORGANIZER;CN="Samantha Lewis":MAILTO:samanthawildlifewomenky1@gmail.com
END:VEVENT
BEGIN:VEVENT
DTSTART;TZID=America/New_York:20211105T160000
DTEND;TZID=America/New_York:20211107T130000
DTSTAMP:20260425T073608
CREATED:20211005T143217Z
LAST-MODIFIED:20211005T143217Z
UID:3278-1636128000-1636290000@wildlifewomen.com
SUMMARY:Wildlife Women Pheasant Hunt
DESCRIPTION:The event is a weekend overnight stay November 5-7!\nTradition pheasant hunting. \n6 spots Available \nWe will do dinner on Friday and Saturday night. & breakfast on Saturday morning. \nEvent cost $500\nIncludes\nLodging\, food\, pheasant hunt\, fishing\, cleaning of birds\, bagging of pheasants for transportation.\nLc.\, Guides & dog. \nBring your own:\nShotgun & ammo\nDrinks\nSnacks\nOrange required\nVest or she’ll pouch recommended\nCooler/ice chest for birds \n  \nArrive time is 3:00\nDeparture by 12:00\nNon Refundable Deposit Due $100 at booking\nremainder balance due upon arrival. ($400)\nIf you have any questions please contact Kim Bryant\nNo holds\nMust be 18 yrs. to attend\nLadies only hunt\nPayPal kmcbryant@aol.com
URL:https://wildlifewomen.com/event/wildlife-women-pheasant-hunt/
LOCATION:Liberty Hill Outfitters\, Rector\, AR\, United States
CATEGORIES:educational,gun education,hunting,nature,safety,Shooting
ATTACH;FMTTYPE=image/jpeg:https://wildlifewomen.com/wp-content/uploads/2021/10/29310EE2-4B5C-4E40-90FC-DBD772F0A12E.jpeg
END:VEVENT
BEGIN:VEVENT
DTSTART;TZID=America/New_York:20211016T113000
DTEND;TZID=America/New_York:20211016T150000
DTSTAMP:20260425T073608
CREATED:20211005T142437Z
LAST-MODIFIED:20211005T142437Z
UID:3274-1634383800-1634396400@wildlifewomen.com
SUMMARY:Wildlife Women and Ducks Unlimited: Shoot’Em if you Got’em
DESCRIPTION:Elk Creek Hunt Club\,\n1860 Georgetown Road\,\nOwenton\, KY 40359 \n*Women Only Event* \nJoin Chapter Leaders Alexandra Ballard and Katelyn Dallas for a fun afternoon at Elk Creek Hunt Club. Participants will be shooting their shotgun of choice on one of Elk Creek’s sporting clay courses. This event will be a great time for both beginners and advanced shooters. If you’ve never shot sporting clays before\, this is a great opportunity to join other women in a stress-free environment and learn the ins and outs of busting clays. If you have experience with clays or bird hunting\, it’s a great way to gear up for duck season or just get some practice in! This will be a women’s only event\, ages 14-18 can participate with an adult. \nParticipants are welcome to bring their own shotgun\, or rent one from the Hunt Club. Participants will be shooting 50 or 100 rounds\, so please make sure to bring enough ammo for your preferred course (50 or 100). You can also purchase ammo directly from the Hunt Club at market price. All participants will need to have hearing and eye protection while on the course. Prices for the Hunt Club are listed below. \nSporting Clays Prices \n***All transactions are subjected to 6% KY Sales Tax \nNon-members Member \n100 Targets $42 $35 \n50 Targets $23 $18 \n5-Stand (25 targets) $15 $10 \n4-Person Golf Cart $35 $25 \nGun Rental $30 $25 \nAdditional Gun User $15 $10 \nAmmo Market Price \n  \nWe plan on starting to shoot at 12:00. Please be at the Hunt Club by 11:30 to sign the waivers and check-in. \nIf you need additional information\, please contact Alexandra Ballard or Katelyn Dallas.
URL:https://wildlifewomen.com/event/wildlife-women-and-ducks-unlimited-shootem-if-you-gotem/
LOCATION:elk creek hunt club\, 1860 Georgetown Road\, Owenton\, KY\, 40359\, United States
CATEGORIES:educational,gun education,safety,Shooting
ATTACH;FMTTYPE=image/jpeg:https://wildlifewomen.com/wp-content/uploads/2021/10/C1A1FEF7-F2AD-4281-896F-ACB3F02F1FE4.jpeg
END:VEVENT
END:VCALENDAR