BEGIN:VCALENDAR
VERSION:2.0
PRODID:-//Wildlife Women - ECPv6.15.20//NONSGML v1.0//EN
CALSCALE:GREGORIAN
METHOD:PUBLISH
X-ORIGINAL-URL:https://wildlifewomen.com
X-WR-CALDESC:Events for Wildlife Women
REFRESH-INTERVAL;VALUE=DURATION:PT1H
X-Robots-Tag:noindex
X-PUBLISHED-TTL:PT1H
BEGIN:VTIMEZONE
TZID:America/New_York
BEGIN:DAYLIGHT
TZOFFSETFROM:-0500
TZOFFSETTO:-0400
TZNAME:EDT
DTSTART:20200308T070000
END:DAYLIGHT
BEGIN:STANDARD
TZOFFSETFROM:-0400
TZOFFSETTO:-0500
TZNAME:EST
DTSTART:20201101T060000
END:STANDARD
BEGIN:DAYLIGHT
TZOFFSETFROM:-0500
TZOFFSETTO:-0400
TZNAME:EDT
DTSTART:20210314T070000
END:DAYLIGHT
BEGIN:STANDARD
TZOFFSETFROM:-0400
TZOFFSETTO:-0500
TZNAME:EST
DTSTART:20211107T060000
END:STANDARD
BEGIN:DAYLIGHT
TZOFFSETFROM:-0500
TZOFFSETTO:-0400
TZNAME:EDT
DTSTART:20220313T070000
END:DAYLIGHT
BEGIN:STANDARD
TZOFFSETFROM:-0400
TZOFFSETTO:-0500
TZNAME:EST
DTSTART:20221106T060000
END:STANDARD
BEGIN:DAYLIGHT
TZOFFSETFROM:-0500
TZOFFSETTO:-0400
TZNAME:EDT
DTSTART:20230312T070000
END:DAYLIGHT
BEGIN:STANDARD
TZOFFSETFROM:-0400
TZOFFSETTO:-0500
TZNAME:EST
DTSTART:20231105T060000
END:STANDARD
BEGIN:DAYLIGHT
TZOFFSETFROM:-0500
TZOFFSETTO:-0400
TZNAME:EDT
DTSTART:20240310T070000
END:DAYLIGHT
BEGIN:STANDARD
TZOFFSETFROM:-0400
TZOFFSETTO:-0500
TZNAME:EST
DTSTART:20241103T060000
END:STANDARD
BEGIN:DAYLIGHT
TZOFFSETFROM:-0500
TZOFFSETTO:-0400
TZNAME:EDT
DTSTART:20250309T070000
END:DAYLIGHT
BEGIN:STANDARD
TZOFFSETFROM:-0400
TZOFFSETTO:-0500
TZNAME:EST
DTSTART:20251102T060000
END:STANDARD
BEGIN:DAYLIGHT
TZOFFSETFROM:-0500
TZOFFSETTO:-0400
TZNAME:EDT
DTSTART:20260308T070000
END:DAYLIGHT
BEGIN:STANDARD
TZOFFSETFROM:-0400
TZOFFSETTO:-0500
TZNAME:EST
DTSTART:20261101T060000
END:STANDARD
END:VTIMEZONE
BEGIN:VEVENT
DTSTART;TZID=America/New_York:20251216T180000
DTEND;TZID=America/New_York:20251216T210000
DTSTAMP:20260425T074534
CREATED:20251126T201804Z
LAST-MODIFIED:20251126T202030Z
UID:3576-1765908000-1765918800@wildlifewomen.com
SUMMARY:Wildlife Women-Winter Wreath Workshop Event
DESCRIPTION:Come Join PA/NJ State Director Wendy Lacaillade for a Wildlife Women – Winter Wreath Workshop Ladies Event where you will be able to attend a laid-back wreath decorating event w/premium mixed greens handmade wreaths at one of her talented great friend’s family-owned greenhouse & country store in Mt. Bethel\, PA! Wendy will be donating some antler accent ornaments to anyone that wants to add any antler themed touch to their wreaths or decorate yours however you would like to with the provided supplies & more! Wine tasting is also included. Please arrive around 6 to get settled & wine tasting selections & to checkout their awesome country store before we begin around 6:30 with our wreath making & will also be making our own bows. Additional details below…*Purchase tickets with provided link on this event to reserve your spot before they sell out!Your ticket purchase includes:\n1– 22” Premium mixed green Wreath1- Ribbon to hand make your bow\, you may bring your own ribbon\, and we will help you create your own bow.10- Standard items (pinecones\, glass balls\, & berries)** Other items available for purchase1- Wine Tasting from Tolino’s Winery** glass and bottles of wine available at an additional cost ￼*Any Questions Please Text/message/call:Wendy (570)-877-7486When: Tuesday December 16th\nWhere: Thomas Greenhouse1586 Mount Bethel HwyMount Bethel\, PA 18343484-661-6553\nTime: Arrive between 6-6:30 for Wine TastingWorkshop Begins @ 6:30\n\n\nMount Bethel\, Pennsylvania
URL:https://wildlifewomen.com/event/wildlife-women-winter-wreath-workshop-event/
LOCATION:Thomas Greenhouse and Country Store\, 1586 Mount Bethel Hwy Mount Bethel\, PA 18343\, Mount Bethel\, PA\, 18343\, United States
CATEGORIES:educational,Meet and Greet,nature,safety
ATTACH;FMTTYPE=image/jpeg:https://wildlifewomen.com/wp-content/uploads/2025/11/Wendys-wreath-event.jpg
END:VEVENT
BEGIN:VEVENT
DTSTART;TZID=America/New_York:20251206T150000
DTEND;TZID=America/New_York:20251207T120000
DTSTAMP:20260425T074534
CREATED:20251011T003803Z
LAST-MODIFIED:20251011T003803Z
UID:3554-1765033200-1765108800@wildlifewomen.com
SUMMARY:Wildlife Women - Giggin’ on the Gasconade
DESCRIPTION:Wildlife Women – Giggin’ on the Gasconade\nWildlife Women’s Tonya Parrish\, State Chapter leader of Missouri will be hosting…\nGiggin’ on the Gasconade.  \nPlease contact Tonya Parrish on Facebook or call/text 417-318-8534 for more information on this event.This is a LADIE’S only trip. There will be men guides that will be instructing us and driving the boats.Need to know information- Date: December 6th 2025 – December 7th 2025Location: Near Rolla\, MO. Exact location will be provided in a group message target species- suckers (fish) Cost: $125-$150 with a $50 non-refundable deposit due at booking. This deposit will be taken off of the final price of the event. Deposit payment can be made through Venmo or CashApp. Lodging is included in the price. The remaining amount of the trip will be due by November 22\, 2025. I will have the final price at that time .. total cost will be determined with how many ladies attend. Items not included in the price: Missouri Fishing License\, Tips and dining.
URL:https://wildlifewomen.com/event/wildlife-women-giggin-on-the-gasconade/
LOCATION:Rolla\, MS\, MO\, United States
CATEGORIES:educational,Fishing,hiking,Hunter Education,hunting,Meet and Greet,nature,navigational,safety
ATTACH;FMTTYPE=image/jpeg:https://wildlifewomen.com/wp-content/uploads/2025/10/WW-Cover-photo-3.jpg
END:VEVENT
BEGIN:VEVENT
DTSTART;TZID=America/New_York:20240620T170000
DTEND;TZID=America/New_York:20240623T180000
DTSTAMP:20260425T074534
CREATED:20240513T231058Z
LAST-MODIFIED:20240513T231219Z
UID:3475-1718902800-1719165600@wildlifewomen.com
SUMMARY:Bassin in Bama
DESCRIPTION:Ladies only bass fishing weekend! Wildlife Women along with Larry Renken and friends host this annual fishing weekend complete with southern fish fry every year! We all have an absolute blast and catch some great fish!\nArrive Thursday June 20th\nFish Friday and Saturday June 21-22\nFish Fry Fun\nDepart on Sunday!\nTotal of 6 ladies\nTotal cost for fishing and lodging $446.00 ( paid in full by June 1\, 2024)\nDeposit $100 (non-refundable by April 15). Remaining balance of $336.00 due June 1\nPayment made to @Bridgette McIntosh via Venmo or PayPal! Please contact for payment instructions\nCo-host @Kim Bryant\nTips for the guides are not included in this price! Please be prepared to pay cash tips See less\nGuntersville\, Alabama
URL:https://wildlifewomen.com/event/bassin-in-bama/
LOCATION:Guntersville\, Alabama
CATEGORIES:cooking,educational,Fishing,Meet and Greet,nature,Relief,safety
ATTACH;FMTTYPE=image/jpeg:https://wildlifewomen.com/wp-content/uploads/2024/05/bassin-in-bama.jpg
ORGANIZER;CN="Bridgette Holbrook":MAILTO:wildlifewomenky1@gmail.com
END:VEVENT
BEGIN:VEVENT
DTSTART;TZID=America/New_York:20240601T120000
DTEND;TZID=America/New_York:20240601T160000
DTSTAMP:20260425T074534
CREATED:20240513T231621Z
LAST-MODIFIED:20240513T231621Z
UID:3480-1717243200-1717257600@wildlifewomen.com
SUMMARY:Let's Learn to Fish - Free Fishing Class
DESCRIPTION:This is a Free Kids Fishing Event!\nLooking for 10 kids ages 5-12 who want to learn how to fish! Each kid will be given a new fishing pole and tackle and State Director Cassie Diamond will be teaching kids how to set up their poles\, bait their hooks\, and how to fish!\nNo license are necessary because it is Kids Free Fishing Weekend in Kentucky!\nEverything is free\, but we can only take 10 kids! To reserve a spot for your child message Cassie directly!\nWe also have a special guest\, Bo Collins! He is a young entrepreneur that owns his own Bait Shop – “Bo’s Baits.” He will be helping Cassie that day and will be teaching kids all about bass fishin!\nParents will be responsible for staying with their child(ren) during the entirety of the event!
URL:https://wildlifewomen.com/event/lets-learn-to-fish-free-fishing-class/
LOCATION:PA
CATEGORIES:educational,Fishing,Meet and Greet,nature,Relief,safety
ATTACH;FMTTYPE=image/jpeg:https://wildlifewomen.com/wp-content/uploads/2024/05/kids-fishing.jpg
ORGANIZER;CN="Cassie Diamond/Wildlife Women":MAILTO:cassiewildlifewomenky1@gmail.com
END:VEVENT
BEGIN:VEVENT
DTSTART;TZID=America/New_York:20210911T110000
DTEND;TZID=America/New_York:20210912T140000
DTSTAMP:20260425T074534
CREATED:20210817T032913Z
LAST-MODIFIED:20210817T033137Z
UID:3245-1631358000-1631455200@wildlifewomen.com
SUMMARY:Wildlife Women Meet & Greet with Linda & Erin
DESCRIPTION:Come to the grand opening of Section 8 Firearms and meet Erin and Linda of Wildlife Women. Learn more about what drives Wildlife Women and how to get involved!
URL:https://wildlifewomen.com/event/wildlife-women-meet-greet-with-linda-erin/
LOCATION:Section 8 Firearms\, 233 E Main Street STE B\, Hazard\, KY\, 41701\, United States
CATEGORIES:educational,Meet and Greet
ATTACH;FMTTYPE=image/jpeg:https://wildlifewomen.com/wp-content/uploads/2021/08/WW-Bow.jpg
END:VEVENT
END:VCALENDAR