BEGIN:VCALENDAR
VERSION:2.0
PRODID:-//Wildlife Women - ECPv6.15.20//NONSGML v1.0//EN
CALSCALE:GREGORIAN
METHOD:PUBLISH
X-WR-CALNAME:Wildlife Women
X-ORIGINAL-URL:https://wildlifewomen.com
X-WR-CALDESC:Events for Wildlife Women
REFRESH-INTERVAL;VALUE=DURATION:PT1H
X-Robots-Tag:noindex
X-PUBLISHED-TTL:PT1H
BEGIN:VTIMEZONE
TZID:America/New_York
BEGIN:DAYLIGHT
TZOFFSETFROM:-0500
TZOFFSETTO:-0400
TZNAME:EDT
DTSTART:20170312T070000
END:DAYLIGHT
BEGIN:STANDARD
TZOFFSETFROM:-0400
TZOFFSETTO:-0500
TZNAME:EST
DTSTART:20171105T060000
END:STANDARD
BEGIN:DAYLIGHT
TZOFFSETFROM:-0500
TZOFFSETTO:-0400
TZNAME:EDT
DTSTART:20180311T070000
END:DAYLIGHT
BEGIN:STANDARD
TZOFFSETFROM:-0400
TZOFFSETTO:-0500
TZNAME:EST
DTSTART:20181104T060000
END:STANDARD
BEGIN:DAYLIGHT
TZOFFSETFROM:-0500
TZOFFSETTO:-0400
TZNAME:EDT
DTSTART:20190310T070000
END:DAYLIGHT
BEGIN:STANDARD
TZOFFSETFROM:-0400
TZOFFSETTO:-0500
TZNAME:EST
DTSTART:20191103T060000
END:STANDARD
BEGIN:DAYLIGHT
TZOFFSETFROM:-0500
TZOFFSETTO:-0400
TZNAME:EDT
DTSTART:20200308T070000
END:DAYLIGHT
BEGIN:STANDARD
TZOFFSETFROM:-0400
TZOFFSETTO:-0500
TZNAME:EST
DTSTART:20201101T060000
END:STANDARD
END:VTIMEZONE
BEGIN:VEVENT
DTSTART;TZID=America/New_York:20190801T090000
DTEND;TZID=America/New_York:20190801T170000
DTSTAMP:20260425T091603
CREATED:20190715T125444Z
LAST-MODIFIED:20190715T125444Z
UID:2134-1564650000-1564678800@wildlifewomen.com
SUMMARY:Wildlife Women Ladies only Hunters Education Class
DESCRIPTION:This is an event for new and old hunters. If you have never taken the hunters ed course this is your chance. Come and fellowship with like minded ladies and enjoy the learning and importance of safety while hunting the types of animals in Alabama\, etc. Be sure to bring your lunch. \nYOU MUST REGISTER FOR THIS CLASS AT THE FOLLOWING LINK. \nhttps://huntered.dcnr.alabama.gov/Public/\nThis class will be in Marengo county!!
URL:https://wildlifewomen.com/event/wildlife-women-ladies-only-hunters-education-class/
LOCATION:Soggy Bottom Lodge\, 18618 US Highway 43\, Linden\, Alabama 36748\, Linden\, AL\, 36748\, United States
CATEGORIES:educational,gun education,Hunter Education,hunting,nature,safety
ATTACH;FMTTYPE=image/jpeg:https://wildlifewomen.com/wp-content/uploads/2019/07/hunter-ed-kristin.jpg
ORGANIZER;CN="Kristin Carlisle":MAILTO:kristinwildlifewomenal1@gmail.com
END:VEVENT
BEGIN:VEVENT
DTSTART;TZID=America/New_York:20190511T100000
DTEND;TZID=America/New_York:20190511T180000
DTSTAMP:20260425T091603
CREATED:20190422T015823Z
LAST-MODIFIED:20190505T014432Z
UID:2071-1557568800-1557597600@wildlifewomen.com
SUMMARY:Wildlife Women - Follow Your Arrow - 3D Archery Shoot
DESCRIPTION:Hey Ladies come join Chapter Leader Cassie Diamond for a day full of archery fun! Beginners and advanced shooters are welcome! We are going to start the morning off with an Archery 101 class taught by Sam Bays with Robinette’s Gun and Archery! We will follow it up with a 3D Archery Shoot at the archery range at Jenny Whiley set up by East KY Archery! \nThis event is for men and women 12 and up! Any child under the age of 18 must be accompanied by an adult! \nMust bring your own bow and arrows! \nPrice has not yet been determined. The event itself is FREE\, but there may be a $10 fee for the shooting range. More details to follow. \nUnfortunately\, we can only take 20 spots\, so the first 20 to RSVP will get a spot! Please private message Cassie for your spot! \nCome out and join us! If you have any questions please contact Cassie Diamond! \nStart time is 10 am and end time is whenever we get finished on the range!
URL:https://wildlifewomen.com/event/wildlife-women-follow-your-arrow-3d-archery-shoot/
LOCATION:East Kentucky Archery\, Prestonsburg\, KY\, United States
CATEGORIES:hunting
ATTACH;FMTTYPE=image/jpeg:https://wildlifewomen.com/wp-content/uploads/2019/04/follow-your-arrow.jpg
ORGANIZER;CN="Cassie Diamond/Wildlife Women":MAILTO:cassiewildlifewomenky1@gmail.com
END:VEVENT
BEGIN:VEVENT
DTSTART;TZID=America/New_York:20190411T170000
DTEND;TZID=America/New_York:20190411T200000
DTSTAMP:20260425T091603
CREATED:20190325T132602Z
LAST-MODIFIED:20190409T035647Z
UID:2040-1555002000-1555012800@wildlifewomen.com
SUMMARY:Wildlife Women Ladies Night at Sportman's Warehouse
DESCRIPTION:  \nLadies night\, oh what a night! Prizes! Special Discounts! Giveaways! Demonstrations! Vendors! Come on out for a fun filled night and meet new people and make new friends! This isn’t just about hunting and fishing…this is about women getting outdoors! Come on out and meet Wildlife Women and wander around Sportsman’s Warehouse and find something you can’t live without!
URL:https://wildlifewomen.com/event/wildlife-women-ladies-night-at-sportmans-warehouse/
LOCATION:Sportsman’s Warehouse\, 2200 Ward Admiral Way\, lexington\, KY\, 40509\, United States
CATEGORIES:Fishing,gun education,Hunter Education,hunting
ATTACH;FMTTYPE=image/png:https://wildlifewomen.com/wp-content/uploads/2019/04/ladies-night-flyer.png
ORGANIZER;CN="Michelle Ralston":MAILTO:michellewildlifewomenky1@gmail.com
END:VEVENT
BEGIN:VEVENT
DTSTART;TZID=America/New_York:20190330T100000
DTEND;TZID=America/New_York:20190330T190000
DTSTAMP:20260425T091603
CREATED:20190226T042514Z
LAST-MODIFIED:20190226T042515Z
UID:1976-1553940000-1553972400@wildlifewomen.com
SUMMARY:Wildlife Women: The Art of Hide Tanning
DESCRIPTION:Join the Wildlife Women and the American Mountain Man Association in a hands on training on the lost art of hide tanning. Instructions will include hide preservation from harvest to tanning\, how to use hide for clothing and accessories\, and other primitive skills.\nInstructors ask that if you have hides to please bring them to the class.\nThis will be an all day event and lunch will be provided.\nPrice for class is $20 and a maximum number of 20 people.\nReserve your spot early!\nFor questions and to reserve a spot\, please contact Chapter Leader Samantha Lewis via Facebook
URL:https://wildlifewomen.com/event/wildlife-women-the-art-of-hide-tanning/
LOCATION:Leslie County Saddle Club\, Leeco Road\, Hyden\, KY\, United States
CATEGORIES:Hunter Education,hunting
ATTACH;FMTTYPE=image/jpeg:https://wildlifewomen.com/wp-content/uploads/2019/02/Hide-Tanning.jpg
ORGANIZER;CN="Samantha Lewis":MAILTO:samanthawildlifewomenky1@gmail.com
END:VEVENT
BEGIN:VEVENT
DTSTART;TZID=America/New_York:20190316T160000
DTEND;TZID=America/New_York:20190316T180000
DTSTAMP:20260425T091603
CREATED:20190315T012636Z
LAST-MODIFIED:20190315T012806Z
UID:2002-1552752000-1552759200@wildlifewomen.com
SUMMARY:Wildlife Women Talking Turkey
DESCRIPTION:  \nChad Campbell is teaching a turkey calling and hunting seminar. He will demonstrate the different calls and how to use them. Also he will talk about turkey hunting and safety. Chad has been teaching turkey seminars for over 20 years\, he has also competed and won numerous calling competitions in the past. Chad is a field rep for Cane Creek Calls and a Mossy Oak Pro-staff. There is no cost for the seminar but attendees are required to order food for use of the banquet room. This class is for men and women\, so anyone interested in learning about Turkey calling and hunting is invited to attend.
URL:https://wildlifewomen.com/event/wildlife-women-talking-turkey/
LOCATION:Jabo’s State of Mind\, 410 Village Lane\, Hazard\, KY\, 41701\, United States
CATEGORIES:gun education,Hunter Education,hunting
ATTACH;FMTTYPE=image/jpeg:https://wildlifewomen.com/wp-content/uploads/2019/03/Lindas-turkeyclass.jpg
ORGANIZER;CN="Linda Campbell/Wildlife Women":MAILTO:lindawildlifewomenky1@gmail.com
END:VEVENT
BEGIN:VEVENT
DTSTART;TZID=America/New_York:20190119T063000
DTEND;TZID=America/New_York:20190119T110000
DTSTAMP:20260425T091603
CREATED:20181027T020652Z
LAST-MODIFIED:20190101T001708Z
UID:1550-1547879400-1547895600@wildlifewomen.com
SUMMARY:Wildlife Women-Dinner and a Rabbit Hunt
DESCRIPTION:The location of the rabbit hunt is set to be held at the Griffith Woods WMA (in the past referred to as Silver Lake Farm). Griffith Woods WMA is located in Harrison County near the junction of US 62 and Russell Cave RD (State RD 353). It is approximately 4 miles southwest of Cynthiana\, 15 miles east of Georgetown\, and 25 miles northeast of Lexington. \nThis is a LADIES ONLY event! If you have any questions please message Michelle Ralston. \n  \n  \nWildlife Women is pairing up with Marty Neal with Traditions Archery Outfitters Pro Shop in Louisville\, Kentucky to host a public land rabbit hunt. \nWe will start by having dinner on Sunday\, November 18\, 2018 at 6:00 p.m. at the Cracker Barrel off of Winchester Road in Lexington (2220 Elkhorn Rd\, Lexington\, KY 40505) to discuss and plan the hunt\, as well as talk about safety and hunting on public land. A location for the dinner will be announced soon. \nBECAUSE OF WEATHER\, THIS EVENT IS POSTPONED FOR NOW.  NEW DATE WILL BE ANNOUNCED SOON. \nNext\, the hunt will be held on Saturday\, December 1\, 2018.  Everyone will need to meet there at 6:30 a.m. Important Notice!  It is now set to be held at the Griffith Woods WMA (in the past referred to as Silver Lake Farm). Griffith Woods WMA is located in Harrison County near the junction of US 62 and Russell Cave RD (State RD 353). It is approximately 4 miles southwest of Cynthiana\, 15 miles east of Georgetown\, and 25 miles northeast of Lexington. \nEquipment you will need for the hunt:\n• Shotgun and ammo\n• Hunter orange clothing\n• Appropriate hunting clothing and boots\n• Hunting license \nWe will go over all of this at the dinner so that we are prepared for the hunt! This is a LADIES ONLY event! If you have any questions please message Michelle Ralston. \n  \n 
URL:https://wildlifewomen.com/event/wildlife-women-dinner-and-a-rabbit-hunt/
LOCATION:Silver Lake Farm\, KY\, United States
CATEGORIES:gun education,Hunter Education,hunting
ATTACH;FMTTYPE=image/jpeg:https://wildlifewomen.com/wp-content/uploads/2018/10/rabbitevent.jpg
ORGANIZER;CN="Michelle Ralston":MAILTO:michellewildlifewomenky1@gmail.com
END:VEVENT
BEGIN:VEVENT
DTSTART;VALUE=DATE:20190105
DTEND;VALUE=DATE:20190107
DTSTAMP:20260425T091603
CREATED:20190101T001756Z
LAST-MODIFIED:20190101T001756Z
UID:1756-1546646400-1546819199@wildlifewomen.com
SUMMARY:Wildlife Women - Duck Hunt
DESCRIPTION:First annual ladies only Duck Hunt for Wildlife Women! You were required to attend the Duck Hunt seminar hosted by Chapter Leader Kelly Crow on September 1\, 2018 or at least have duck hunted before in order to attend. Our guide is Brent Thompson with Pine Ridge British Labradors who had the seminar to teach and talk all about duck hunting. This will be an early morning hunt which will last until we limit out or till we can’t stay any longer.\nYou are required to have your hunting license\, HIP survey\, Migratory Bird-Waterfowl Permit\, and Federal Duck Stamp. Go online with http://www.fw.ky.gov to purchase all.\nThe hunt will be in a 3 county area of Western Kentucky around the Princeton and Eddyville\, Kentucky area.\nWe can go down Friday evening on 1/4/19 and join Brent and his lovely family at his home to a meal cooked by them of duck!\nFor anymore info or address to Brent’s house please send a message to Melissa Blair or Wildlife Women and we will answer any questions and give addresses.\nA couple of the ladies have booked rooms at the Hampton Inn at Kuttawa\, Kentucky. Feel free to book or contact Melissa or Wildlife Women on the info for that also.
URL:https://wildlifewomen.com/event/wildlife-women-duck-hunt/
LOCATION:Eddyville\, Kentucky\, Jeremiah\, KY\, 41826\, United States
CATEGORIES:hunting
ATTACH;FMTTYPE=image/jpeg:https://wildlifewomen.com/wp-content/uploads/2018/12/Pine-ridge-cover.jpg
ORGANIZER;CN="Melissa Blair":MAILTO:melissawildlifewomenky1@gmail.com
END:VEVENT
BEGIN:VEVENT
DTSTART;TZID=America/New_York:20181027T090000
DTEND;TZID=America/New_York:20181028T170000
DTSTAMP:20260425T091603
CREATED:20180905T233504Z
LAST-MODIFIED:20180905T233504Z
UID:1365-1540630800-1540746000@wildlifewomen.com
SUMMARY:Wildlife women and the men who love them
DESCRIPTION:Wildlife women and their significant others will be getting away for a relaxing weekend of fall turkey hunting and bow deer hunting.  Cost and more details will be posted soon!
URL:https://wildlifewomen.com/event/wildlife-women-and-the-men-who-love-them/
LOCATION:land in Knott County\, KY\, United States
CATEGORIES:hunting
ATTACH;FMTTYPE=image/jpeg:https://wildlifewomen.com/wp-content/uploads/2018/09/samantha-event.jpg
ORGANIZER;CN="samantha Lewis":MAILTO:samanthawildlifewomenky1@gmail.com
END:VEVENT
BEGIN:VEVENT
DTSTART;TZID=America/New_York:20180927T180000
DTEND;TZID=America/New_York:20180927T200000
DTSTAMP:20260425T091603
CREATED:20180923T173950Z
LAST-MODIFIED:20180923T174403Z
UID:1488-1538071200-1538078400@wildlifewomen.com
SUMMARY:Wildlife Women Bear Necessities Seminar
DESCRIPTION:Men and women are invited to join us for everything you need to know about hunting Bear! Come and learn from the best! Greg Ison aka Big ‘Un or “The Bear Man” will be teaching the following: \nBear habitat\nCharacteristics\nMating\nCommunication\nTracking\nHunting\nWeapons\nSafety\nRules and regulations for Ky\nHarvesting\nCleaning \nIf you are planning to hunt Kentucky this year you do not want to miss this class. Big ‘Un has rescued\, hunted\, raised and even wrestled Big Ky Bear! He plans to share all or most his techniques and knowledge of Bear necessities with every one in attendance!!! \n-Cost $10 at the door\n-6-8pm\n-16 yrs and up\n-men and women (co-ed class)\n-appetizers and Tea will be provided\n-drinks and meals are available at your own cost\n-please RSVP by clicking the going button on our Facebook page https://www.facebook.com/events/565439847245049/\n-message in this event or PM Bridgette Holbrook for questions.\n-Wildlife Women merchandise and memberships will be available\n-door prizes to be given away \nSee ya there!!!!
URL:https://wildlifewomen.com/event/wildlife-women-bear-necessities-seminar/
LOCATION:Prime 606 Steakhouse\, 180 Parkway Plaza Loop\, Whitesburg\, KY\, 41858\, United States
CATEGORIES:Hunter Education,hunting
ATTACH;FMTTYPE=image/jpeg:https://wildlifewomen.com/wp-content/uploads/2018/09/bear-seminar.jpg
ORGANIZER;CN="Bridgette Holbrook":MAILTO:wildlifewomenky1@gmail.com
END:VEVENT
END:VCALENDAR