BEGIN:VCALENDAR
VERSION:2.0
PRODID:-//Wildlife Women - ECPv6.15.20//NONSGML v1.0//EN
CALSCALE:GREGORIAN
METHOD:PUBLISH
X-ORIGINAL-URL:https://wildlifewomen.com
X-WR-CALDESC:Events for Wildlife Women
REFRESH-INTERVAL;VALUE=DURATION:PT1H
X-Robots-Tag:noindex
X-PUBLISHED-TTL:PT1H
BEGIN:VTIMEZONE
TZID:America/New_York
BEGIN:DAYLIGHT
TZOFFSETFROM:-0500
TZOFFSETTO:-0400
TZNAME:EDT
DTSTART:20170312T070000
END:DAYLIGHT
BEGIN:STANDARD
TZOFFSETFROM:-0400
TZOFFSETTO:-0500
TZNAME:EST
DTSTART:20171105T060000
END:STANDARD
BEGIN:DAYLIGHT
TZOFFSETFROM:-0500
TZOFFSETTO:-0400
TZNAME:EDT
DTSTART:20180311T070000
END:DAYLIGHT
BEGIN:STANDARD
TZOFFSETFROM:-0400
TZOFFSETTO:-0500
TZNAME:EST
DTSTART:20181104T060000
END:STANDARD
BEGIN:DAYLIGHT
TZOFFSETFROM:-0500
TZOFFSETTO:-0400
TZNAME:EDT
DTSTART:20190310T070000
END:DAYLIGHT
BEGIN:STANDARD
TZOFFSETFROM:-0400
TZOFFSETTO:-0500
TZNAME:EST
DTSTART:20191103T060000
END:STANDARD
BEGIN:DAYLIGHT
TZOFFSETFROM:-0500
TZOFFSETTO:-0400
TZNAME:EDT
DTSTART:20200308T070000
END:DAYLIGHT
BEGIN:STANDARD
TZOFFSETFROM:-0400
TZOFFSETTO:-0500
TZNAME:EST
DTSTART:20201101T060000
END:STANDARD
BEGIN:DAYLIGHT
TZOFFSETFROM:-0500
TZOFFSETTO:-0400
TZNAME:EDT
DTSTART:20210314T070000
END:DAYLIGHT
BEGIN:STANDARD
TZOFFSETFROM:-0400
TZOFFSETTO:-0500
TZNAME:EST
DTSTART:20211107T060000
END:STANDARD
BEGIN:DAYLIGHT
TZOFFSETFROM:-0500
TZOFFSETTO:-0400
TZNAME:EDT
DTSTART:20220313T070000
END:DAYLIGHT
BEGIN:STANDARD
TZOFFSETFROM:-0400
TZOFFSETTO:-0500
TZNAME:EST
DTSTART:20221106T060000
END:STANDARD
BEGIN:DAYLIGHT
TZOFFSETFROM:-0500
TZOFFSETTO:-0400
TZNAME:EDT
DTSTART:20230312T070000
END:DAYLIGHT
BEGIN:STANDARD
TZOFFSETFROM:-0400
TZOFFSETTO:-0500
TZNAME:EST
DTSTART:20231105T060000
END:STANDARD
BEGIN:DAYLIGHT
TZOFFSETFROM:-0500
TZOFFSETTO:-0400
TZNAME:EDT
DTSTART:20240310T070000
END:DAYLIGHT
BEGIN:STANDARD
TZOFFSETFROM:-0400
TZOFFSETTO:-0500
TZNAME:EST
DTSTART:20241103T060000
END:STANDARD
BEGIN:DAYLIGHT
TZOFFSETFROM:-0500
TZOFFSETTO:-0400
TZNAME:EDT
DTSTART:20250309T070000
END:DAYLIGHT
BEGIN:STANDARD
TZOFFSETFROM:-0400
TZOFFSETTO:-0500
TZNAME:EST
DTSTART:20251102T060000
END:STANDARD
BEGIN:DAYLIGHT
TZOFFSETFROM:-0500
TZOFFSETTO:-0400
TZNAME:EDT
DTSTART:20260308T070000
END:DAYLIGHT
BEGIN:STANDARD
TZOFFSETFROM:-0400
TZOFFSETTO:-0500
TZNAME:EST
DTSTART:20261101T060000
END:STANDARD
END:VTIMEZONE
BEGIN:VEVENT
DTSTART;TZID=America/New_York:20251206T150000
DTEND;TZID=America/New_York:20251207T120000
DTSTAMP:20260425T091139
CREATED:20251011T003803Z
LAST-MODIFIED:20251011T003803Z
UID:3554-1765033200-1765108800@wildlifewomen.com
SUMMARY:Wildlife Women - Giggin’ on the Gasconade
DESCRIPTION:Wildlife Women – Giggin’ on the Gasconade\nWildlife Women’s Tonya Parrish\, State Chapter leader of Missouri will be hosting…\nGiggin’ on the Gasconade.  \nPlease contact Tonya Parrish on Facebook or call/text 417-318-8534 for more information on this event.This is a LADIE’S only trip. There will be men guides that will be instructing us and driving the boats.Need to know information- Date: December 6th 2025 – December 7th 2025Location: Near Rolla\, MO. Exact location will be provided in a group message target species- suckers (fish) Cost: $125-$150 with a $50 non-refundable deposit due at booking. This deposit will be taken off of the final price of the event. Deposit payment can be made through Venmo or CashApp. Lodging is included in the price. The remaining amount of the trip will be due by November 22\, 2025. I will have the final price at that time .. total cost will be determined with how many ladies attend. Items not included in the price: Missouri Fishing License\, Tips and dining.
URL:https://wildlifewomen.com/event/wildlife-women-giggin-on-the-gasconade/
LOCATION:Rolla\, MS\, MO\, United States
CATEGORIES:educational,Fishing,hiking,Hunter Education,hunting,Meet and Greet,nature,navigational,safety
ATTACH;FMTTYPE=image/jpeg:https://wildlifewomen.com/wp-content/uploads/2025/10/WW-Cover-photo-3.jpg
END:VEVENT
BEGIN:VEVENT
DTSTART;TZID=America/New_York:20240620T170000
DTEND;TZID=America/New_York:20240623T180000
DTSTAMP:20260425T091139
CREATED:20240513T231058Z
LAST-MODIFIED:20240513T231219Z
UID:3475-1718902800-1719165600@wildlifewomen.com
SUMMARY:Bassin in Bama
DESCRIPTION:Ladies only bass fishing weekend! Wildlife Women along with Larry Renken and friends host this annual fishing weekend complete with southern fish fry every year! We all have an absolute blast and catch some great fish!\nArrive Thursday June 20th\nFish Friday and Saturday June 21-22\nFish Fry Fun\nDepart on Sunday!\nTotal of 6 ladies\nTotal cost for fishing and lodging $446.00 ( paid in full by June 1\, 2024)\nDeposit $100 (non-refundable by April 15). Remaining balance of $336.00 due June 1\nPayment made to @Bridgette McIntosh via Venmo or PayPal! Please contact for payment instructions\nCo-host @Kim Bryant\nTips for the guides are not included in this price! Please be prepared to pay cash tips See less\nGuntersville\, Alabama
URL:https://wildlifewomen.com/event/bassin-in-bama/
LOCATION:Guntersville\, Alabama
CATEGORIES:cooking,educational,Fishing,Meet and Greet,nature,Relief,safety
ATTACH;FMTTYPE=image/jpeg:https://wildlifewomen.com/wp-content/uploads/2024/05/bassin-in-bama.jpg
ORGANIZER;CN="Bridgette Holbrook":MAILTO:wildlifewomenky1@gmail.com
END:VEVENT
BEGIN:VEVENT
DTSTART;TZID=America/New_York:20240601T120000
DTEND;TZID=America/New_York:20240601T160000
DTSTAMP:20260425T091139
CREATED:20240513T231621Z
LAST-MODIFIED:20240513T231621Z
UID:3480-1717243200-1717257600@wildlifewomen.com
SUMMARY:Let's Learn to Fish - Free Fishing Class
DESCRIPTION:This is a Free Kids Fishing Event!\nLooking for 10 kids ages 5-12 who want to learn how to fish! Each kid will be given a new fishing pole and tackle and State Director Cassie Diamond will be teaching kids how to set up their poles\, bait their hooks\, and how to fish!\nNo license are necessary because it is Kids Free Fishing Weekend in Kentucky!\nEverything is free\, but we can only take 10 kids! To reserve a spot for your child message Cassie directly!\nWe also have a special guest\, Bo Collins! He is a young entrepreneur that owns his own Bait Shop – “Bo’s Baits.” He will be helping Cassie that day and will be teaching kids all about bass fishin!\nParents will be responsible for staying with their child(ren) during the entirety of the event!
URL:https://wildlifewomen.com/event/lets-learn-to-fish-free-fishing-class/
LOCATION:MO
CATEGORIES:educational,Fishing,Meet and Greet,nature,Relief,safety
ATTACH;FMTTYPE=image/jpeg:https://wildlifewomen.com/wp-content/uploads/2024/05/kids-fishing.jpg
ORGANIZER;CN="Cassie Diamond/Wildlife Women":MAILTO:cassiewildlifewomenky1@gmail.com
END:VEVENT
BEGIN:VEVENT
DTSTART;TZID=America/New_York:20220624T170000
DTEND;TZID=America/New_York:20220627T110000
DTSTAMP:20260425T091139
CREATED:20220117T185535Z
LAST-MODIFIED:20220117T185618Z
UID:3321-1656090000-1656327600@wildlifewomen.com
SUMMARY:Wildlife Women Walleye Fishin on Lake Erie
DESCRIPTION:-Ladies only (adult) fishing trip\n-Can accommodate up to 6 ladies (4 slots available)\n-No equipment needed- equipment and bait provided by Paul Ranft and his fishing charter The Outfitters!\n-Three nights lodging in Port Clinton\, OH\n-Two days guided walleye fishing with Paul Ranft\n-items needed: personal\, sunscreen\, cooler hat\nPRICE per angler will be $350.00\n(Price may vary if don’t fill 6 slots)\n-non refundable deposit $50 will hold your spot (payable to Cassie’s PayPal cassiewildlifewomenky1@gmail.com)\n-full payment/ balance required by June 1st\n-food will be on your own\n-license will be $14 and we will purchase at the lake\n-contact (via fb messenger) President Bridgette Holbrook or WV State Director leader Cassie Diamond for more information
URL:https://wildlifewomen.com/event/wildlife-women-walleye-fishin-on-lake-erie/
LOCATION:Port Clinton\, OH\, Port Clinton\, OH\, United States
CATEGORIES:educational,Fishing,nature
ATTACH;FMTTYPE=image/jpeg:https://wildlifewomen.com/wp-content/uploads/2022/01/walleye-cassie.jpg
ORGANIZER;CN="Cassie Diamond/Wildlife Women":MAILTO:cassiewildlifewomenky1@gmail.com
END:VEVENT
BEGIN:VEVENT
DTSTART;TZID=America/New_York:20220609T170000
DTEND;TZID=America/New_York:20220612T230000
DTSTAMP:20260425T091139
CREATED:20220117T184520Z
LAST-MODIFIED:20220117T191001Z
UID:3317-1654794000-1655074800@wildlifewomen.com
SUMMARY:Wildlife Women “Bassin in Bama”
DESCRIPTION:EVENT FULL\n\n-Ladies only (adult) fishing trip\n-Can accommodate up to 6 ladies\n-No equipment needed- equipment and bait provided by DUCKETT FISHING\n-Three nights in lake cottage\n-Two days guided large bass trophy fishing with Duckett VP and General manager along with two top team members\n-any other fish caught for consumption will be cleaned for us\n-items needed: personal\, sunscreen\, cooler hat\nPRICE per angler will be $350.00\n(Price may vary if don’t fill 6 slots)\n-non refundable deposit $50 will hold your spot (payable to Bridgette’s PayPal bridgardo4@gmail.com)\n-full payment/ balance required by June 1st\n-food will be on your own\n-license will be $31 and we will purchase at the lake\n-Kim Bryant Alabama chapter leader will organize meals (cooked or restaurants and snacks for fishing)\n-contact (via fb messenger) President Bridgette Holbrook or Chapter leader Kim Bryant for more information
URL:https://wildlifewomen.com/event/wildlife-women-bassin-in-bama/
LOCATION:Gunterville\, AL\, Guntersville\, AL\, United States
CATEGORIES:educational,Fishing,nature
ATTACH;FMTTYPE=image/jpeg:https://wildlifewomen.com/wp-content/uploads/2022/01/duckett-fishing.jpg
ORGANIZER;CN="Bridgette Holbrook":MAILTO:wildlifewomenky1@gmail.com
END:VEVENT
BEGIN:VEVENT
DTSTART;TZID=America/New_York:20220219T090000
DTEND;TZID=America/New_York:20220219T170000
DTSTAMP:20260425T091139
CREATED:20220117T183713Z
LAST-MODIFIED:20220117T183713Z
UID:3313-1645261200-1645290000@wildlifewomen.com
SUMMARY:Southern West Virginia Fishing Expo
DESCRIPTION:WV State Director\, Cassie Diamond will be at the 2nd Annual Southern WV Fishing Expo! Last year was exciting and we can’t wait to see what this year brings to the expo! Stop by her booth to get information about Wildlife Women and check out some of the events we have planned for this year in WV and Southeastern KY!
URL:https://wildlifewomen.com/event/southern-west-virginia-fishing-expo/
LOCATION:Historic Williamson Fieldhouse\, Williamson\, WV\, United States
CATEGORIES:Bow Fishing,Fishing,safety
ATTACH;FMTTYPE=image/jpeg:https://wildlifewomen.com/wp-content/uploads/2022/01/Cassie-fishing-expo.jpg
ORGANIZER;CN="Cassie Diamond/Wildlife Women":MAILTO:cassiewildlifewomenky1@gmail.com
END:VEVENT
BEGIN:VEVENT
DTSTART;TZID=America/New_York:20210508T080000
DTEND;TZID=America/New_York:20210508T170000
DTSTAMP:20260425T091139
CREATED:20210505T185539Z
LAST-MODIFIED:20210505T185539Z
UID:3171-1620460800-1620493200@wildlifewomen.com
SUMMARY:Wildlife Women Fly Fishing Basics by NKFF
DESCRIPTION:This will be a class with two parts a virtual section and an in person section both taught by the Northern Kentucky Fly Fishers. \n(9AM to12 pm for the Virtual Fly Fishing Basics portion – at each students home\, link will be provided) zoom format \n2PM – 4PM for the In-Person session for Knot-Tying & Fly-Casting at New Day Ranch \nthis class is perfect for beginners and novices trying to brush up on skills \nthis class will be co-ed and allow children 16 up who attend accompanied with an adult at all times
URL:https://wildlifewomen.com/event/wildlife-women-fly-fishing-basics-by-nkff/
LOCATION:New Day ranch\, 14838 rosenstiel Road\, Verona\, KY\, 41092\, United States
CATEGORIES:Fishing
ATTACH;FMTTYPE=image/jpeg:https://wildlifewomen.com/wp-content/uploads/2021/05/71DC808E-D3C5-4BF9-A8A1-36C9C1F883FC.jpeg
ORGANIZER;CN="Heather LeBlanc":MAILTO:heatherwildlifewomenky1@gmail.com
END:VEVENT
BEGIN:VEVENT
DTSTART;TZID=America/New_York:20191006T090000
DTEND;TZID=America/New_York:20191006T160000
DTSTAMP:20260425T091139
CREATED:20190315T022339Z
LAST-MODIFIED:20190315T022339Z
UID:2013-1570352400-1570377600@wildlifewomen.com
SUMMARY:Wildlife Women Whippin' Bait - Intro to Surf Fishing
DESCRIPTION:LADIES! Come Join Wildlife Women Chapter Leader Wendy Race For an Intro to Surf Fishing Event on Long Beach Island in NJ. This Event will Have Limited Spots & the Cost will be $25.00 Per Person. Below is an Outline for the Event Which Will Include a Class & Demo Before We Fish & We Will Learn How to Clean Everything We Land that we can keep. Fishing Rods\, Bait\, & Everything Needed to Fish Will Be Provided. We Will Meet at the Address Above for a Class & Then Continue to the beach for Baiting & Casting Demos & Then Fishing! Wendy Will Provide Coffee\, Water & Bagels/Cream Cheese/Butter. Just Bring an Extra Snack if Want For the Day & A cooler to Bring Fish Home just In case :). It Will Be First Come first Serve & if the fishing is good we can stay as long as we want :). There Will Be Some Prizes that Will Be Posted Later. We will watch Weather when closer to the event\, please check back a few days leading up to the event for details & Recommendations of what to wear. If we get rain\, a Rain Date will be set and everyone will be notified. Can’t Wait!! Any questions\, feel free to message Wendy Race on messenger or send one to Wildlife Women! \nOutline of Event Below:\nIntro to Surf Fishing:\nSurf fishing is a fun sport that is done right off the beach. It is an act that requires confidence in the ability to pick the exact spot along thousands of miles of coastline where a fish will find the angler’s single offering. Presenting bait or lure properly is the key to catching a fish but you also need some basic understanding of the fish your after\, its behavior and its habitat as well as what it likes to feed on in different conditions. This event is geared to teach you that understand to help put the odds in your favor and give you a better understanding of the sport. \nTopics being discussed Before Fishing:\nThe technique of casting\nBasic knot tying\nMaking your own rigs for optimal success\nFish & bait fish identification\nHow to read the beach (identifying structure\, sandbars etc)\nWhat’s out there (time of year and what you should be targeting when)\nLure identification (what to use when and why)\nBasic maintaniance of your gear\nFish cleaning and care\nBasic maintenance of saltwater gear\nFish Preparation & cooking recommendations\nContact Wendy Race via Facebook Messenger or text (570)-877-7486\n*Must be 18+ to attend* for insurance purposes
URL:https://wildlifewomen.com/event/wildlife-women-whippin-bait-intro-to-surf-fishing-2/
LOCATION:09 E Ryerson Ln\, 09 E Ryerson Ln\, Long Beach Island\, NJ\, United States
CATEGORIES:Fishing
ATTACH;FMTTYPE=image/jpeg:https://wildlifewomen.com/wp-content/uploads/2019/03/wendys-fishing-event.jpg
ORGANIZER;CN="Wendy Race Chapter Leader":MAILTO:wendywildlifewomennj@gmail.com
END:VEVENT
BEGIN:VEVENT
DTSTART;TZID=America/New_York:20190813T173000
DTEND;TZID=America/New_York:20190813T193000
DTSTAMP:20260425T091139
CREATED:20190807T002900Z
LAST-MODIFIED:20190807T002900Z
UID:2154-1565717400-1565724600@wildlifewomen.com
SUMMARY:Wildlife Women: Catching Rainbows Paintsville
DESCRIPTION:We will be fishing at Paintsville lake SPILLWAY. You must have a valid 2019 Kentucky Fishing License and a 2019 Trout stamp to fish the spillway. Come enjoy the evening and learn how to catch some trout. This is a free event. Bring a ultra light rod and reel or a fly rod. I will have bait. Hope to see everyone. This event is adults only 18 and older. Co Ed class. \nChapter leader\nTina Thornsberry
URL:https://wildlifewomen.com/event/wildlife-women-catching-rainbows-paintsville/
LOCATION:Paintsville Lake State Park\, 1551 Ky Route 2275\, Staffordsville\, KY\, 41256\, United States
CATEGORIES:educational,Fishing,nature,safety
ATTACH;FMTTYPE=image/jpeg:https://wildlifewomen.com/wp-content/uploads/2019/08/trout-fishing.jpg
END:VEVENT
BEGIN:VEVENT
DTSTART;TZID=America/New_York:20190719T180000
DTEND;TZID=America/New_York:20190719T200000
DTSTAMP:20260425T091139
CREATED:20190715T152938Z
LAST-MODIFIED:20190715T152938Z
UID:2137-1563559200-1563566400@wildlifewomen.com
SUMMARY:Wildlife Women Friday Night Float and Fish
DESCRIPTION:Come shake off the stress of the week and start the weekend off right at the lake! Join Event Director\, Erin Bingham\, bring a fishing pole and a kayak and let’s go fishing! We will meet at Carr Fork Marina and paddle out for some fishing (KY FISHING LICENSE required) at 6 pm!  Life Jacket required on kayak and this event is free.  Ladies only please.
URL:https://wildlifewomen.com/event/wildlife-women-friday-night-float-and-fish/
LOCATION:Carr Fork Marina\, Sass
CATEGORIES:educational,Fishing,nature,safety
ATTACH;FMTTYPE=image/jpeg:https://wildlifewomen.com/wp-content/uploads/2019/07/erins-night-float.jpg
ORGANIZER;CN="Erin Stump/Wildlife Women":MAILTO:erinwildlifewomenky1@gmail.com
END:VEVENT
BEGIN:VEVENT
DTSTART;TZID=America/New_York:20190509T180000
DTEND;TZID=America/New_York:20190509T200000
DTSTAMP:20260425T091139
CREATED:20190505T015142Z
LAST-MODIFIED:20190505T015142Z
UID:2091-1557424800-1557432000@wildlifewomen.com
SUMMARY:Wildlife Women Catching Rainbows
DESCRIPTION:I will be teaching trout fishing May 9th at 6pm at the Carr Creek Lake Spillway. Just bring a pole or fly rod and a 2019 Kentucky fishing License and trout permit. If you have a sportsman license you have everything you need. So bring a friend and come join me for some free fishing lessons. Hope to see you there. Everyone welcome.\nAlways since it’s an outside event. It will be weather permitting. Thank you.
URL:https://wildlifewomen.com/event/wildlife-women-catching-rainbows/
LOCATION:Carr Creek State Park\, Dam\, Sassafras\, KY\, 41759\, United States
CATEGORIES:Fishing
ATTACH;FMTTYPE=image/jpeg:https://wildlifewomen.com/wp-content/uploads/2019/05/tinas-rainbow-event.jpg
ORGANIZER;CN="Tina Thornsberry":MAILTO:tinawildlifewomenky1@gmail.com
END:VEVENT
BEGIN:VEVENT
DTSTART;TZID=America/New_York:20190508T183000
DTEND;TZID=America/New_York:20190508T203000
DTSTAMP:20260425T091139
CREATED:20190422T015014Z
LAST-MODIFIED:20190422T015014Z
UID:2066-1557340200-1557347400@wildlifewomen.com
SUMMARY:Wildlife Women Get your Trout On!
DESCRIPTION:Come join Wildlife Women and KY NRA senior field representative John LaRowe in an evening of trout fishing. We will include 30 minutes of instruction followed by an hour and a half of fishing. All ages and Coed. Everyone is welcome but must have current KY State fishing license.  If under the age of  18 must be accompanied by an adult.
URL:https://wildlifewomen.com/event/wildlife-women-get-your-trout-on/
LOCATION:Middleton-Mills Park\, 3415 Mills Road\, Covington\, KY\, 41015\, United States
CATEGORIES:Fishing
ATTACH;FMTTYPE=image/jpeg:https://wildlifewomen.com/wp-content/uploads/2019/04/trout-event.jpg
ORGANIZER;CN="Heather LeBlanc":MAILTO:heatherwildlifewomenky1@gmail.com
END:VEVENT
BEGIN:VEVENT
DTSTART;TZID=America/New_York:20190411T170000
DTEND;TZID=America/New_York:20190411T200000
DTSTAMP:20260425T091139
CREATED:20190325T132602Z
LAST-MODIFIED:20190409T035647Z
UID:2040-1555002000-1555012800@wildlifewomen.com
SUMMARY:Wildlife Women Ladies Night at Sportman's Warehouse
DESCRIPTION:  \nLadies night\, oh what a night! Prizes! Special Discounts! Giveaways! Demonstrations! Vendors! Come on out for a fun filled night and meet new people and make new friends! This isn’t just about hunting and fishing…this is about women getting outdoors! Come on out and meet Wildlife Women and wander around Sportsman’s Warehouse and find something you can’t live without!
URL:https://wildlifewomen.com/event/wildlife-women-ladies-night-at-sportmans-warehouse/
LOCATION:Sportsman’s Warehouse\, 2200 Ward Admiral Way\, lexington\, KY\, 40509\, United States
CATEGORIES:Fishing,gun education,Hunter Education,hunting
ATTACH;FMTTYPE=image/png:https://wildlifewomen.com/wp-content/uploads/2019/04/ladies-night-flyer.png
ORGANIZER;CN="Michelle Ralston":MAILTO:michellewildlifewomenky1@gmail.com
END:VEVENT
BEGIN:VEVENT
DTSTART;TZID=America/New_York:20181014T093000
DTEND;TZID=America/New_York:20181014T143000
DTSTAMP:20260425T091139
CREATED:20180905T232800Z
LAST-MODIFIED:20180905T232801Z
UID:1357-1539509400-1539527400@wildlifewomen.com
SUMMARY:Wildlife Women Whippin’ Bait-Intro to Surf Fishing
DESCRIPTION:LADIES! Come Join Wildlife Women Chapter Leader Wendy Race For an Intro to Surf Fishing Event on Long Beach Island in NJ. This Event will be Open to up to 12 Girls & the Cost will be $25.00 Per Person. Outlined Below is an Outline for a Class & Demo Before We Fish & Will Learn How to Clean Everything We Land that we can keep. Fishing Rods\, Bait\, & Everything Needed to Fish Will Be Provided. We Will Meet at the Address Above for a Class & Then Continue to the beach for Baiting & Casting Demos & Then Fishing! Wendy Will Provide Coffee\, Water & Bagels/Cream Cheese/Butter. Just Bring an Extra Snack if Want & A cooler to Bring Fish Home just In case 🙂 . Sign Up on this Event & you’ll Have to Pay Ahead to Hold Your Spot I will Post Payment Options a Couple Weeks Ahead of time. It Will Be First Come first Serve. I will Have Room for 2 Girls in My Truck if anyone would like to ride down with me. It’s a little bit of a drive & if the fishing is good we can stay as long as we want :). There Will Be Some Prizes that Will Be Posted Later. We will watch Weather when closer to the event\, please check back a few days leading up to the 14th for details & Recommendations of what to wear. If we get rain\, a Rain Date of October 21st will be set and everyone will be notified. Can’t Wait!! Any questions\, feel free to message me\, Wendy Race on messenger or send one to Wildlife Women! Outline of Event Below: \nIntro to Surf Fishing:\nSurf fishing is a fun sport that is done right off the beach.It is an act that requires confidence in the ability to pick the exact spot along thousands of miles of coastline where a fish will find the angler’s single offering. Presenting bait or lure properly is the key to catching a fish but you also need some basic understanding of the fish your after\, its behavior and its habitat as well as what it likes to feed on in different conditions. This event is geared to teach you that understand to help put the odds in your favor and give you a better understanding of the sport. \nTopics being discussed Before Fishing:\nThe technique of casting\nBasic knot tying\nMaking your own rigs for optimal success\nFish & bait fish identification\nHow to read the beach (identifying structure\, sandbars etc)\nWhats out there (time of year and what you should be targeting when)\nLure identification (what to use when and why)\nBasic maintenance of your gear\nFish cleaning and care
URL:https://wildlifewomen.com/event/wildlife-women-whippin-bait-intro-to-surf-fishing/
LOCATION:09 E Ryerson Ln\, 09 E Ryerson Ln\, Long Beach Island\, NJ\, United States
CATEGORIES:Fishing
ATTACH;FMTTYPE=image/jpeg:https://wildlifewomen.com/wp-content/uploads/2018/09/wendysevent.jpg
ORGANIZER;CN="Wendy Race Chapter Leader":MAILTO:wendywildlifewomennj@gmail.com
END:VEVENT
END:VCALENDAR