BEGIN:VCALENDAR
VERSION:2.0
PRODID:-//Wildlife Women - ECPv6.15.20//NONSGML v1.0//EN
CALSCALE:GREGORIAN
METHOD:PUBLISH
X-WR-CALNAME:Wildlife Women
X-ORIGINAL-URL:https://wildlifewomen.com
X-WR-CALDESC:Events for Wildlife Women
REFRESH-INTERVAL;VALUE=DURATION:PT1H
X-Robots-Tag:noindex
X-PUBLISHED-TTL:PT1H
BEGIN:VTIMEZONE
TZID:America/New_York
BEGIN:DAYLIGHT
TZOFFSETFROM:-0500
TZOFFSETTO:-0400
TZNAME:EDT
DTSTART:20180311T070000
END:DAYLIGHT
BEGIN:STANDARD
TZOFFSETFROM:-0400
TZOFFSETTO:-0500
TZNAME:EST
DTSTART:20181104T060000
END:STANDARD
BEGIN:DAYLIGHT
TZOFFSETFROM:-0500
TZOFFSETTO:-0400
TZNAME:EDT
DTSTART:20190310T070000
END:DAYLIGHT
BEGIN:STANDARD
TZOFFSETFROM:-0400
TZOFFSETTO:-0500
TZNAME:EST
DTSTART:20191103T060000
END:STANDARD
BEGIN:DAYLIGHT
TZOFFSETFROM:-0500
TZOFFSETTO:-0400
TZNAME:EDT
DTSTART:20200308T070000
END:DAYLIGHT
BEGIN:STANDARD
TZOFFSETFROM:-0400
TZOFFSETTO:-0500
TZNAME:EST
DTSTART:20201101T060000
END:STANDARD
BEGIN:DAYLIGHT
TZOFFSETFROM:-0500
TZOFFSETTO:-0400
TZNAME:EDT
DTSTART:20210314T070000
END:DAYLIGHT
BEGIN:STANDARD
TZOFFSETFROM:-0400
TZOFFSETTO:-0500
TZNAME:EST
DTSTART:20211107T060000
END:STANDARD
BEGIN:DAYLIGHT
TZOFFSETFROM:-0500
TZOFFSETTO:-0400
TZNAME:EDT
DTSTART:20220313T070000
END:DAYLIGHT
BEGIN:STANDARD
TZOFFSETFROM:-0400
TZOFFSETTO:-0500
TZNAME:EST
DTSTART:20221106T060000
END:STANDARD
BEGIN:DAYLIGHT
TZOFFSETFROM:-0500
TZOFFSETTO:-0400
TZNAME:EDT
DTSTART:20230312T070000
END:DAYLIGHT
BEGIN:STANDARD
TZOFFSETFROM:-0400
TZOFFSETTO:-0500
TZNAME:EST
DTSTART:20231105T060000
END:STANDARD
BEGIN:DAYLIGHT
TZOFFSETFROM:-0500
TZOFFSETTO:-0400
TZNAME:EDT
DTSTART:20240310T070000
END:DAYLIGHT
BEGIN:STANDARD
TZOFFSETFROM:-0400
TZOFFSETTO:-0500
TZNAME:EST
DTSTART:20241103T060000
END:STANDARD
BEGIN:DAYLIGHT
TZOFFSETFROM:-0500
TZOFFSETTO:-0400
TZNAME:EDT
DTSTART:20250309T070000
END:DAYLIGHT
BEGIN:STANDARD
TZOFFSETFROM:-0400
TZOFFSETTO:-0500
TZNAME:EST
DTSTART:20251102T060000
END:STANDARD
END:VTIMEZONE
BEGIN:VEVENT
DTSTART;TZID=America/New_York:20240620T170000
DTEND;TZID=America/New_York:20240623T180000
DTSTAMP:20260425T092152
CREATED:20240513T231058Z
LAST-MODIFIED:20240513T231219Z
UID:3475-1718902800-1719165600@wildlifewomen.com
SUMMARY:Bassin in Bama
DESCRIPTION:Ladies only bass fishing weekend! Wildlife Women along with Larry Renken and friends host this annual fishing weekend complete with southern fish fry every year! We all have an absolute blast and catch some great fish!\nArrive Thursday June 20th\nFish Friday and Saturday June 21-22\nFish Fry Fun\nDepart on Sunday!\nTotal of 6 ladies\nTotal cost for fishing and lodging $446.00 ( paid in full by June 1\, 2024)\nDeposit $100 (non-refundable by April 15). Remaining balance of $336.00 due June 1\nPayment made to @Bridgette McIntosh via Venmo or PayPal! Please contact for payment instructions\nCo-host @Kim Bryant\nTips for the guides are not included in this price! Please be prepared to pay cash tips See less\nGuntersville\, Alabama
URL:https://wildlifewomen.com/event/bassin-in-bama/
LOCATION:Guntersville\, Alabama
CATEGORIES:cooking,educational,Fishing,Meet and Greet,nature,Relief,safety
ATTACH;FMTTYPE=image/jpeg:https://wildlifewomen.com/wp-content/uploads/2024/05/bassin-in-bama.jpg
ORGANIZER;CN="Bridgette Holbrook":MAILTO:wildlifewomenky1@gmail.com
END:VEVENT
BEGIN:VEVENT
DTSTART;TZID=America/New_York:20191027T190000
DTEND;TZID=America/New_York:20191027T200000
DTSTAMP:20260425T092152
CREATED:20191016T003147Z
LAST-MODIFIED:20191016T003147Z
UID:2192-1572202800-1572206400@wildlifewomen.com
SUMMARY:Wildlife Women Fall Harvest Medley-Live Cooking Class
DESCRIPTION:Join us for our first ever Facebook live cooking class! \nWildlife Women Chapter Leader Samantha Lewis and her husband James (American Mountain Man Member) will be hosting a live cooking class. \nMake sure you set your notifications 🔊🔔 to join us here on the Wildlife Women page on October 27th at 7pm. We will be cooking and taking your questions. We will also take suggestions for future classes✨ \nJoin us and join the fun\, October 27th at 7pm 🍴 \nWe will be making a Fall harvest medley! If you want to cook along with us here is a list of ingredients you will need: \n1/2 pound of pumpkin or butternut squash\n3 apples\n3 pears\n1/2 cup raisins\n1/2 cup walnuts\n1/2 cup of butter\nCinnamon and brown sugar to taste
URL:https://wildlifewomen.com/event/wildlife-women-fall-harvest-medley-live-cooking-class/
LOCATION:Lewis Farm\, Wooton\, KY\, United States
CATEGORIES:cooking,educational
ATTACH;FMTTYPE=image/jpeg:https://wildlifewomen.com/wp-content/uploads/2019/10/live-cooking-show.jpg
ORGANIZER;CN="Samantha Lewis":MAILTO:samanthawildlifewomenky1@gmail.com
END:VEVENT
BEGIN:VEVENT
DTSTART;TZID=America/New_York:20190713T100000
DTEND;TZID=America/New_York:20190714T140000
DTSTAMP:20260425T092152
CREATED:20190612T221353Z
LAST-MODIFIED:20190612T221353Z
UID:2114-1563012000-1563112800@wildlifewomen.com
SUMMARY:Pickin' and Jammin'
DESCRIPTION:Have you ever wanted to learn how to make Blackberry Jam? Or maybe you know how and would like to come and enjoy a day and night event of pickin blackberries and makin Jam with a few other ladies! This will be a ladies only event. We will meet at the Big cabin at Big Branch Cabin Rentals at 10am. If you have a side by side or ATV feel free to bring it. If you don’t\, it’s ok\, you don’t have to have one. We do need to charge a fee of $30.00 per person to cover expenses for Jam making\, cabin rental and supper that Saturday evening. Which means all supplies for Jam making will be supplied with this fee. After a day of Blackberry pickin\, we will head back to the cabin and enjoy an evening of learning how to make Blackberry Jam while eating hotdogs on the grill with homemade elk chili. If you would like any sides to go along with our hotdogs\, please feel free to bring any with you to eat or share! The cabin is ours for the night so plenty of sleeping space for everyone! Breakfast the next morning is on your own. We look forward to a fun filled Pickin and Jammin\, eatin\, and laughing two day event with all the ladies who attend!! \nIf you have any questions\, feel free to message Melissa Jones Blair or Tina Thornsberry through this event or through our messenger on Facebook.
URL:https://wildlifewomen.com/event/pickin-and-jammin/
LOCATION:Big Branch Cabin Rentals\, 3814 Big Branch Road\, Vicco\, KY\, 41773\, United States
CATEGORIES:cooking,nature,riding
ATTACH;FMTTYPE=image/jpeg:https://wildlifewomen.com/wp-content/uploads/2019/06/pickin-and-jammin.jpg
ORGANIZER;CN="Tina Thornsberry":MAILTO:tinawildlifewomenky1@gmail.com
END:VEVENT
END:VCALENDAR