BEGIN:VCALENDAR
VERSION:2.0
PRODID:-//Wildlife Women - ECPv6.15.20//NONSGML v1.0//EN
CALSCALE:GREGORIAN
METHOD:PUBLISH
X-WR-CALNAME:Wildlife Women
X-ORIGINAL-URL:https://wildlifewomen.com
X-WR-CALDESC:Events for Wildlife Women
REFRESH-INTERVAL;VALUE=DURATION:PT1H
X-Robots-Tag:noindex
X-PUBLISHED-TTL:PT1H
BEGIN:VTIMEZONE
TZID:America/New_York
BEGIN:DAYLIGHT
TZOFFSETFROM:-0500
TZOFFSETTO:-0400
TZNAME:EDT
DTSTART:20180311T070000
END:DAYLIGHT
BEGIN:STANDARD
TZOFFSETFROM:-0400
TZOFFSETTO:-0500
TZNAME:EST
DTSTART:20181104T060000
END:STANDARD
BEGIN:DAYLIGHT
TZOFFSETFROM:-0500
TZOFFSETTO:-0400
TZNAME:EDT
DTSTART:20190310T070000
END:DAYLIGHT
BEGIN:STANDARD
TZOFFSETFROM:-0400
TZOFFSETTO:-0500
TZNAME:EST
DTSTART:20191103T060000
END:STANDARD
BEGIN:DAYLIGHT
TZOFFSETFROM:-0500
TZOFFSETTO:-0400
TZNAME:EDT
DTSTART:20200308T070000
END:DAYLIGHT
BEGIN:STANDARD
TZOFFSETFROM:-0400
TZOFFSETTO:-0500
TZNAME:EST
DTSTART:20201101T060000
END:STANDARD
BEGIN:DAYLIGHT
TZOFFSETFROM:-0500
TZOFFSETTO:-0400
TZNAME:EDT
DTSTART:20210314T070000
END:DAYLIGHT
BEGIN:STANDARD
TZOFFSETFROM:-0400
TZOFFSETTO:-0500
TZNAME:EST
DTSTART:20211107T060000
END:STANDARD
BEGIN:DAYLIGHT
TZOFFSETFROM:-0500
TZOFFSETTO:-0400
TZNAME:EDT
DTSTART:20220313T070000
END:DAYLIGHT
BEGIN:STANDARD
TZOFFSETFROM:-0400
TZOFFSETTO:-0500
TZNAME:EST
DTSTART:20221106T060000
END:STANDARD
END:VTIMEZONE
BEGIN:VEVENT
DTSTART;TZID=America/New_York:20210827T180000
DTEND;TZID=America/New_York:20210827T200000
DTSTAMP:20260425T103846
CREATED:20210817T031443Z
LAST-MODIFIED:20210817T031443Z
UID:3237-1630087200-1630094400@wildlifewomen.com
SUMMARY:Wildlife Women’s beginners bow hunting and archery class
DESCRIPTION:Elizabeth Kimble with AGFC and the nature center and AGFC volunteer and Arkansas S3DA State Coordinator Tracy Shaw are joining together to teach a Women’s basic archery skills class. We will be talking about proper shooting techniques\, how to get into the sport of archery and also the basics of bow hunting. If you cannot make the class\, please contact us for private lessons. Hope to see everyone come out and have fun!! Please contact us to register!!
URL:https://wildlifewomen.com/event/wildlife-womens-beginners-bow-hunting-and-archery-class/
LOCATION:600 E Lawson Road\, 600 E Lawson Road\, Jonesboro\, AR\, 72404\, United States
CATEGORIES:Bow shooting,educational,safety
ATTACH;FMTTYPE=image/jpeg:https://wildlifewomen.com/wp-content/uploads/2021/08/tracy-bow-event.jpg
ORGANIZER;CN="Tracy Shaw":MAILTO:tracywildlifewomenar1@gmail.com
END:VEVENT
BEGIN:VEVENT
DTSTART;TZID=America/New_York:20191102T130000
DTEND;TZID=America/New_York:20191102T150000
DTSTAMP:20260425T103846
CREATED:20191025T015927Z
LAST-MODIFIED:20191025T015927Z
UID:2206-1572699600-1572706800@wildlifewomen.com
SUMMARY:Wildlife Women: Ladies Archery Day
DESCRIPTION:Come out and spend a couple hours with Chapter Leader Misty Delph and other ladies from the region. We will just be hanging out and shooting Bows. The cost is $6 per hour you shoot. Girls under 18 must be accompanied by an parent/guardian. Bring your own bow and arrows. There will be a tech on site. Any experience level welcome.
URL:https://wildlifewomen.com/event/wildlife-women-ladies-archery-day-2/
LOCATION:Bardstown Mills\, 1393 Withrow Court\, Bardstown\, Kentucky\, 40004\, United States
CATEGORIES:Bow shooting,educational
ATTACH;FMTTYPE=image/jpeg:https://wildlifewomen.com/wp-content/uploads/2019/09/ladies-archery.jpg
ORGANIZER;CN="Misty Delph":MAILTO:mistywildlifewomenky1@gmail.com
END:VEVENT
BEGIN:VEVENT
DTSTART;TZID=America/New_York:20191102T053000
DTEND;TZID=America/New_York:20191102T160000
DTSTAMP:20260425T103846
CREATED:20191005T135735Z
LAST-MODIFIED:20191025T022144Z
UID:2175-1572672600-1572710400@wildlifewomen.com
SUMMARY:Wildlife Women Rabbit Hunt
DESCRIPTION:Come join Fayette County Chapter Leader\, Michelle Ralston\, on a public land rabbit hunt opening weekend – November 2nd!\nWe will meet at the Five Star gas station in New Haven\, KY (150 Hwy 31E) at 5:30 a.m.\nYou’ll need a shotgun with 4\, 5\, or 6 lead shot. Most any choke will do. Clothing will depend on the weather for that day. Please bring water and snacks\, since we will be there for a while!\nMarty Neal with Traditions Archery Outfitters has generously agreed to lead this hunt and to use his dogs!\nYou can contact Michelle Ralston with any questions.\n(This is an adult and ladies only event!)
URL:https://wildlifewomen.com/event/wildlife-women-ladies-archery-day/
LOCATION:Rolling Form WMA\, New Haven\, KY\, United States
CATEGORIES:Bow shooting,educational,safety
ORGANIZER;CN="Michelle Ralston":MAILTO:michellewildlifewomenky1@gmail.com
END:VEVENT
BEGIN:VEVENT
DTSTART;TZID=America/New_York:20191024T180000
DTEND;TZID=America/New_York:20191024T200000
DTSTAMP:20260425T103846
CREATED:20191010T151120Z
LAST-MODIFIED:20191010T151120Z
UID:2182-1571940000-1571947200@wildlifewomen.com
SUMMARY:Wildlife Women Treats and Arrows
DESCRIPTION:Come on out to Trunk or Treat and experience archery for the first time! We will be there with bows\, arrows and treats! Moms we want you too! Bring your kids and learn how Wildlife Women can totally open up new experiences for your whole family!  It’s Free!
URL:https://wildlifewomen.com/event/wildlife-women-treats-and-arrows/
LOCATION:East Perry Elementary\, 301 Perry Circle Road\, Hazard\, KY\, 41701\, United States
CATEGORIES:Bow shooting,educational,nature,safety
ATTACH;FMTTYPE=image/jpeg:https://wildlifewomen.com/wp-content/uploads/2019/10/treats-and-arrows.jpg
ORGANIZER;CN="Erin Stump/Wildlife Women":MAILTO:erinwildlifewomenky1@gmail.com
END:VEVENT
END:VCALENDAR