BEGIN:VCALENDAR
VERSION:2.0
PRODID:-//Wildlife Women - ECPv6.15.20//NONSGML v1.0//EN
CALSCALE:GREGORIAN
METHOD:PUBLISH
X-WR-CALNAME:Wildlife Women
X-ORIGINAL-URL:https://wildlifewomen.com
X-WR-CALDESC:Events for Wildlife Women
REFRESH-INTERVAL;VALUE=DURATION:PT1H
X-Robots-Tag:noindex
X-PUBLISHED-TTL:PT1H
BEGIN:VTIMEZONE
TZID:America/New_York
BEGIN:DAYLIGHT
TZOFFSETFROM:-0500
TZOFFSETTO:-0400
TZNAME:EDT
DTSTART:20190310T070000
END:DAYLIGHT
BEGIN:STANDARD
TZOFFSETFROM:-0400
TZOFFSETTO:-0500
TZNAME:EST
DTSTART:20191103T060000
END:STANDARD
BEGIN:DAYLIGHT
TZOFFSETFROM:-0500
TZOFFSETTO:-0400
TZNAME:EDT
DTSTART:20200308T070000
END:DAYLIGHT
BEGIN:STANDARD
TZOFFSETFROM:-0400
TZOFFSETTO:-0500
TZNAME:EST
DTSTART:20201101T060000
END:STANDARD
BEGIN:DAYLIGHT
TZOFFSETFROM:-0500
TZOFFSETTO:-0400
TZNAME:EDT
DTSTART:20210314T070000
END:DAYLIGHT
BEGIN:STANDARD
TZOFFSETFROM:-0400
TZOFFSETTO:-0500
TZNAME:EST
DTSTART:20211107T060000
END:STANDARD
BEGIN:DAYLIGHT
TZOFFSETFROM:-0500
TZOFFSETTO:-0400
TZNAME:EDT
DTSTART:20220313T070000
END:DAYLIGHT
BEGIN:STANDARD
TZOFFSETFROM:-0400
TZOFFSETTO:-0500
TZNAME:EST
DTSTART:20221106T060000
END:STANDARD
BEGIN:DAYLIGHT
TZOFFSETFROM:-0500
TZOFFSETTO:-0400
TZNAME:EDT
DTSTART:20230312T070000
END:DAYLIGHT
BEGIN:STANDARD
TZOFFSETFROM:-0400
TZOFFSETTO:-0500
TZNAME:EST
DTSTART:20231105T060000
END:STANDARD
END:VTIMEZONE
BEGIN:VEVENT
DTSTART;TZID=America/New_York:20220219T090000
DTEND;TZID=America/New_York:20220219T170000
DTSTAMP:20260425T091138
CREATED:20220117T183713Z
LAST-MODIFIED:20220117T183713Z
UID:3313-1645261200-1645290000@wildlifewomen.com
SUMMARY:Southern West Virginia Fishing Expo
DESCRIPTION:WV State Director\, Cassie Diamond will be at the 2nd Annual Southern WV Fishing Expo! Last year was exciting and we can’t wait to see what this year brings to the expo! Stop by her booth to get information about Wildlife Women and check out some of the events we have planned for this year in WV and Southeastern KY!
URL:https://wildlifewomen.com/event/southern-west-virginia-fishing-expo/
LOCATION:Historic Williamson Fieldhouse\, Williamson\, WV\, United States
CATEGORIES:Bow Fishing,Fishing,safety
ATTACH;FMTTYPE=image/jpeg:https://wildlifewomen.com/wp-content/uploads/2022/01/Cassie-fishing-expo.jpg
ORGANIZER;CN="Cassie Diamond/Wildlife Women":MAILTO:cassiewildlifewomenky1@gmail.com
END:VEVENT
BEGIN:VEVENT
DTSTART;TZID=America/New_York:20201023T173000
DTEND;TZID=America/New_York:20201023T230000
DTSTAMP:20260425T091138
CREATED:20201015T021801Z
LAST-MODIFIED:20201015T021801Z
UID:3062-1603474200-1603494000@wildlifewomen.com
SUMMARY:Wildlife Women: Intro to Bowfishing
DESCRIPTION:Join Wildlife Women NJ & PA State Director Wendy Race Along With Christina (Xtina) Reiman NJ Chapter Leader for a Ladies Intro to Bowfishing Event on the Delaware River! \n•Only 4 Spots Available! Must purchase on attached event link to reserve spot \nWhat’s included? :\n•Fully Set Up Bowfishing Bow & Arrows\nWhat’s Required?:\n•Valid NJ Fishing License (if non resident can purchase a daily one online on Fish & Game Website)\nWhat should you bring?\n•clothing-Dress according to weather forcast & keep in mind to bring or wear enough Incase windy & will be night fishing so gets cooler on the river\n•Bottled water will be provided please bring beverages or snacks if you want to\nWhen arriving at above address there will be opportunity to practice shoot & set up draw weight of bow you will be using so please arrive between 5:45-6pm then we will go to the launch on the Delaware River in NJ\n*If want to keep fish at end of event…filleting is included*\nContact Wendy Race by text @ 570-877-7486 with any additional questions\n*for insurance purposes event is for women age 18 & up*\nhttp://www.eventbrite.com/e/wildlife-women-intro-to-bowfishing-tickets-125397955661
URL:https://wildlifewomen.com/event/wildlife-women-intro-to-bowfishing/
LOCATION:541 Riverton Rd\, Bangor\, PA 18013-5018\, 541 Riverton Rd\, Bangor\, PA\, 18013\, United States
CATEGORIES:Bow Fishing
ATTACH;FMTTYPE=image/jpeg:https://wildlifewomen.com/wp-content/uploads/2020/10/Bow-Fishing.jpg
ORGANIZER;CN="Wendy Race Chapter Leader":MAILTO:wendywildlifewomennj@gmail.com
END:VEVENT
END:VCALENDAR