BEGIN:VCALENDAR
VERSION:2.0
PRODID:-//Wildlife Women - ECPv6.15.20//NONSGML v1.0//EN
CALSCALE:GREGORIAN
METHOD:PUBLISH
X-WR-CALNAME:Wildlife Women
X-ORIGINAL-URL:https://wildlifewomen.com
X-WR-CALDESC:Events for Wildlife Women
REFRESH-INTERVAL;VALUE=DURATION:PT1H
X-Robots-Tag:noindex
X-PUBLISHED-TTL:PT1H
BEGIN:VTIMEZONE
TZID:America/New_York
BEGIN:DAYLIGHT
TZOFFSETFROM:-0500
TZOFFSETTO:-0400
TZNAME:EDT
DTSTART:20190310T070000
END:DAYLIGHT
BEGIN:STANDARD
TZOFFSETFROM:-0400
TZOFFSETTO:-0500
TZNAME:EST
DTSTART:20191103T060000
END:STANDARD
BEGIN:DAYLIGHT
TZOFFSETFROM:-0500
TZOFFSETTO:-0400
TZNAME:EDT
DTSTART:20200308T070000
END:DAYLIGHT
BEGIN:STANDARD
TZOFFSETFROM:-0400
TZOFFSETTO:-0500
TZNAME:EST
DTSTART:20201101T060000
END:STANDARD
BEGIN:DAYLIGHT
TZOFFSETFROM:-0500
TZOFFSETTO:-0400
TZNAME:EDT
DTSTART:20210314T070000
END:DAYLIGHT
BEGIN:STANDARD
TZOFFSETFROM:-0400
TZOFFSETTO:-0500
TZNAME:EST
DTSTART:20211107T060000
END:STANDARD
END:VTIMEZONE
BEGIN:VEVENT
DTSTART;TZID=America/New_York:20201018T170000
DTEND;TZID=America/New_York:20201018T190000
DTSTAMP:20260425T115818
CREATED:20201014T173914Z
LAST-MODIFIED:20201014T173914Z
UID:3052-1603040400-1603047600@wildlifewomen.com
SUMMARY:Wildlife Women: Axe Throwing
DESCRIPTION:Come join chapter leader Misty Delph for an evening of throwing axes. This will be a LADIES only event ages 18 and up. You must wear closed toe shoes. The cost per person will be $33 dollars for 2 hours. Covid guidelines will be followed.
URL:https://wildlifewomen.com/event/wildlife-women-axe-throwing/
LOCATION:2004 N Mulberry St\, Elizabethtown\, KY 42701-2053\, United States\, 2004 N Mulberry St.\, Elizabethtown\, KY\, 42701\, United States
CATEGORIES:Axe Throwing
ATTACH;FMTTYPE=image/jpeg:https://wildlifewomen.com/wp-content/uploads/2020/10/axe-throwing.jpg
ORGANIZER;CN="Misty Delph":MAILTO:mistywildlifewomenky1@gmail.com
END:VEVENT
END:VCALENDAR